Package: esATAC Version: 1.22.0 Command: chmod a+r esATAC -R && F:\biocbuild\bbs-3.17-bioc\R\bin\R.exe CMD build --keep-empty-dirs --no-resave-data esATAC StartedAt: 2023-10-15 19:04:30 -0400 (Sun, 15 Oct 2023) EndedAt: 2023-10-15 19:06:35 -0400 (Sun, 15 Oct 2023) EllapsedTime: 125.6 seconds RetCode: 0 Status: OK PackageFile: esATAC_1.22.0.tar.gz PackageFileSize: 9.863 MiB