Package: esATAC Version: 1.22.0 Command: rm -rf esATAC.buildbin-libdir && mkdir esATAC.buildbin-libdir && F:\biocbuild\bbs-3.17-bioc\R\bin\R.exe CMD INSTALL --build --library=esATAC.buildbin-libdir esATAC_1.22.0.tar.gz StartedAt: 2023-10-16 08:46:26 -0400 (Mon, 16 Oct 2023) EndedAt: 2023-10-16 08:48:54 -0400 (Mon, 16 Oct 2023) EllapsedTime: 148.3 seconds RetCode: 0 Status: OK PackageFile: esATAC_1.22.0.zip PackageFileSize: 8.511 MiB