Package: esATAC Version: 1.22.0 Command: /Library/Frameworks/R.framework/Resources/bin/R CMD INSTALL esATAC StartedAt: 2023-10-15 16:06:31 -0400 (Sun, 15 Oct 2023) EndedAt: 2023-10-15 16:12:25 -0400 (Sun, 15 Oct 2023) EllapsedTime: 354.2 seconds RetCode: 0 Status: OK