Package: esATAC Version: 1.22.0 Command: /Library/Frameworks/R.framework/Resources/bin/R CMD check --install=check:esATAC.install-out.txt --library=/Library/Frameworks/R.framework/Resources/library --no-vignettes --timings esATAC_1.22.0.tar.gz StartedAt: 2023-10-16 01:28:56 -0400 (Mon, 16 Oct 2023) EndedAt: 2023-10-16 01:47:50 -0400 (Mon, 16 Oct 2023) EllapsedTime: 1133.7 seconds RetCode: 0 Status: OK CheckDir: esATAC.Rcheck Warnings: 0