Package: erma Version: 1.16.0 Command: chmod a+r erma -R && F:\biocbuild\bbs-3.17-bioc\R\bin\R.exe CMD build --keep-empty-dirs --no-resave-data erma StartedAt: 2023-10-15 19:04:11 -0400 (Sun, 15 Oct 2023) EndedAt: 2023-10-15 19:05:51 -0400 (Sun, 15 Oct 2023) EllapsedTime: 100.4 seconds RetCode: 0 Status: OK PackageFile: erma_1.16.0.tar.gz PackageFileSize: 198 MiB