Package: erma Version: 1.16.0 Command: rm -rf erma.buildbin-libdir && mkdir erma.buildbin-libdir && F:\biocbuild\bbs-3.17-bioc\R\bin\R.exe CMD INSTALL --build --library=erma.buildbin-libdir erma_1.16.0.tar.gz StartedAt: 2023-10-16 08:46:22 -0400 (Mon, 16 Oct 2023) EndedAt: 2023-10-16 08:48:39 -0400 (Mon, 16 Oct 2023) EllapsedTime: 137.5 seconds RetCode: 0 Status: OK PackageFile: erma_1.16.0.zip PackageFileSize: 198.3 MiB