Package: erma Version: 1.16.0 Command: /Library/Frameworks/R.framework/Resources/bin/R CMD INSTALL erma StartedAt: 2023-10-15 15:46:00 -0400 (Sun, 15 Oct 2023) EndedAt: 2023-10-15 15:48:26 -0400 (Sun, 15 Oct 2023) EllapsedTime: 146.0 seconds RetCode: 0 Status: OK