Package: erma Version: 1.16.0 Command: /Library/Frameworks/R.framework/Resources/bin/R CMD build --keep-empty-dirs --no-resave-data erma StartedAt: 2023-10-15 18:13:40 -0400 (Sun, 15 Oct 2023) EndedAt: 2023-10-15 18:17:17 -0400 (Sun, 15 Oct 2023) EllapsedTime: 216.4 seconds RetCode: 0 Status: OK PackageFile: erma_1.16.0.tar.gz PackageFileSize: 198 MiB