Package: erccdashboard Version: 1.34.0 Command: /home/biocbuild/bbs-3.17-bioc/R/bin/R CMD build --keep-empty-dirs --no-resave-data erccdashboard StartedAt: 2023-10-15 16:44:13 -0400 (Sun, 15 Oct 2023) EndedAt: 2023-10-15 16:45:04 -0400 (Sun, 15 Oct 2023) EllapsedTime: 50.5 seconds RetCode: 0 Status: OK PackageFile: erccdashboard_1.34.0.tar.gz PackageFileSize: 1.792 MiB