Package: epivizrStandalone Version: 1.28.0 Command: rm -rf epivizrStandalone.buildbin-libdir && mkdir epivizrStandalone.buildbin-libdir && F:\biocbuild\bbs-3.17-bioc\R\bin\R.exe CMD INSTALL --build --library=epivizrStandalone.buildbin-libdir epivizrStandalone_1.28.0.tar.gz StartedAt: 2023-10-16 08:46:17 -0400 (Mon, 16 Oct 2023) EndedAt: 2023-10-16 08:47:04 -0400 (Mon, 16 Oct 2023) EllapsedTime: 46.8 seconds RetCode: 0 Status: OK PackageFile: epivizrStandalone_1.28.0.zip PackageFileSize: 254 KiB