Package: epivizrStandalone Version: 1.28.0 Command: rm -rf epivizrStandalone.buildbin-libdir && mkdir epivizrStandalone.buildbin-libdir && /Users/biocbuild/BBS/utils/build-universal.sh epivizrStandalone_1.28.0.tar.gz /Library/Frameworks/R.framework/Resources/bin/R epivizrStandalone.buildbin-libdir StartedAt: 2023-10-16 09:21:46 -0400 (Mon, 16 Oct 2023) EndedAt: 2023-10-16 09:24:08 -0400 (Mon, 16 Oct 2023) EllapsedTime: 142.2 seconds RetCode: 0 Status: OK PackageFile: epivizrStandalone_1.28.0.tgz PackageFileSize: 249.8 KiB