Package: epivizrChart Version: 1.22.0 Command: F:\biocbuild\bbs-3.17-bioc\R\bin\R.exe CMD INSTALL epivizrChart StartedAt: 2023-10-15 16:25:59 -0400 (Sun, 15 Oct 2023) EndedAt: 2023-10-15 16:26:57 -0400 (Sun, 15 Oct 2023) EllapsedTime: 58.0 seconds RetCode: 0 Status: OK