Package: epivizrChart Version: 1.22.0 Command: chmod a+r epivizrChart -R && F:\biocbuild\bbs-3.17-bioc\R\bin\R.exe CMD build --keep-empty-dirs --no-resave-data epivizrChart StartedAt: 2023-10-15 19:02:04 -0400 (Sun, 15 Oct 2023) EndedAt: 2023-10-15 19:04:22 -0400 (Sun, 15 Oct 2023) EllapsedTime: 137.2 seconds RetCode: 0 Status: OK PackageFile: epivizrChart_1.22.0.tar.gz PackageFileSize: 5.304 MiB