Package: epivizrChart Version: 1.22.0 Command: /home/biocbuild/bbs-3.17-bioc/R/bin/R CMD INSTALL epivizrChart StartedAt: 2023-10-15 15:24:03 -0400 (Sun, 15 Oct 2023) EndedAt: 2023-10-15 15:24:48 -0400 (Sun, 15 Oct 2023) EllapsedTime: 44.5 seconds RetCode: 0 Status: OK