Package: epivizr Version: 2.30.0 Command: rm -rf epivizr.buildbin-libdir && mkdir epivizr.buildbin-libdir && F:\biocbuild\bbs-3.17-bioc\R\bin\R.exe CMD INSTALL --build --library=epivizr.buildbin-libdir epivizr_2.30.0.tar.gz StartedAt: 2023-10-16 08:45:55 -0400 (Mon, 16 Oct 2023) EndedAt: 2023-10-16 08:46:48 -0400 (Mon, 16 Oct 2023) EllapsedTime: 52.8 seconds RetCode: 0 Status: OK PackageFile: epivizr_2.30.0.zip PackageFileSize: 1.979 MiB