Package: epistasisGA Version: 1.2.1 Command: rm -rf epistasisGA.buildbin-libdir && mkdir epistasisGA.buildbin-libdir && F:\biocbuild\bbs-3.17-bioc\R\bin\R.exe CMD INSTALL --build --library=epistasisGA.buildbin-libdir epistasisGA_1.2.1.tar.gz StartedAt: 2023-10-16 08:45:52 -0400 (Mon, 16 Oct 2023) EndedAt: 2023-10-16 08:46:51 -0400 (Mon, 16 Oct 2023) EllapsedTime: 59.2 seconds RetCode: 0 Status: OK PackageFile: epistasisGA_1.2.1.zip PackageFileSize: 1.958 MiB