Package: epistasisGA Version: 1.2.1 Command: /home/biocbuild/bbs-3.17-bioc/R/bin/R CMD check --install=check:epistasisGA.install-out.txt --library=/home/biocbuild/bbs-3.17-bioc/R/site-library --timings epistasisGA_1.2.1.tar.gz StartedAt: 2023-10-15 21:08:04 -0400 (Sun, 15 Oct 2023) EndedAt: 2023-10-15 21:12:34 -0400 (Sun, 15 Oct 2023) EllapsedTime: 269.7 seconds RetCode: 0 Status: OK CheckDir: epistasisGA.Rcheck Warnings: 0