Package: epistasisGA Version: 1.2.1 Command: /home/biocbuild/bbs-3.17-bioc/R/bin/R CMD build --keep-empty-dirs --no-resave-data epistasisGA StartedAt: 2023-10-15 16:43:19 -0400 (Sun, 15 Oct 2023) EndedAt: 2023-10-15 16:46:09 -0400 (Sun, 15 Oct 2023) EllapsedTime: 170.1 seconds RetCode: 0 Status: OK PackageFile: epistasisGA_1.2.1.tar.gz PackageFileSize: 1.968 MiB