Package: epistasisGA Version: 1.2.1 Command: /Library/Frameworks/R.framework/Resources/bin/R CMD build --keep-empty-dirs --no-resave-data epistasisGA StartedAt: 2023-10-15 18:11:29 -0400 (Sun, 15 Oct 2023) EndedAt: 2023-10-15 18:16:57 -0400 (Sun, 15 Oct 2023) EllapsedTime: 327.5 seconds RetCode: 0 Status: OK PackageFile: epistasisGA_1.2.1.tar.gz PackageFileSize: 1.976 MiB