Package: epistasisGA Version: 1.2.1 Command: rm -rf epistasisGA.buildbin-libdir && mkdir epistasisGA.buildbin-libdir && /Users/biocbuild/BBS/utils/build-universal.sh epistasisGA_1.2.1.tar.gz /Library/Frameworks/R.framework/Resources/bin/R epistasisGA.buildbin-libdir StartedAt: 2023-10-16 09:21:33 -0400 (Mon, 16 Oct 2023) EndedAt: 2023-10-16 09:23:50 -0400 (Mon, 16 Oct 2023) EllapsedTime: 136.9 seconds RetCode: 0 Status: OK PackageFile: epistasisGA_1.2.1.tgz PackageFileSize: 2.32 MiB