git_url: https://git.bioconductor.org/packages/epistasisGA git_branch: RELEASE_3_17 git_last_commit: 48703f2 git_last_commit_date: 2023-05-01 20:10:26 -0400 (Mon, 01 May 2023) Package: epistasisGA Version: 1.2.1 Maintainer: Michael Nodzenski MaintainerEmail: michael.nodzenski at gmail.com