Package: epistack Version: 1.6.0 Command: F:\biocbuild\bbs-3.17-bioc\R\bin\R.exe CMD INSTALL epistack StartedAt: 2023-10-15 15:56:09 -0400 (Sun, 15 Oct 2023) EndedAt: 2023-10-15 15:56:32 -0400 (Sun, 15 Oct 2023) EllapsedTime: 22.3 seconds RetCode: 0 Status: OK