Package: epistack Version: 1.6.0 Command: F:\biocbuild\bbs-3.17-bioc\R\bin\R.exe CMD check --no-multiarch --install=check:epistack.install-out.txt --library=F:\biocbuild\bbs-3.17-bioc\R\library --no-vignettes --timings epistack_1.6.0.tar.gz StartedAt: 2023-10-16 01:56:55 -0400 (Mon, 16 Oct 2023) EndedAt: 2023-10-16 01:59:30 -0400 (Mon, 16 Oct 2023) EllapsedTime: 155.0 seconds RetCode: 0 Status: OK CheckDir: epistack.Rcheck Warnings: 0