Package: epistack Version: 1.6.0 Command: chmod a+r epistack -R && F:\biocbuild\bbs-3.17-bioc\R\bin\R.exe CMD build --keep-empty-dirs --no-resave-data epistack StartedAt: 2023-10-15 18:59:50 -0400 (Sun, 15 Oct 2023) EndedAt: 2023-10-15 19:11:16 -0400 (Sun, 15 Oct 2023) EllapsedTime: 686.2 seconds RetCode: 0 Status: OK PackageFile: epistack_1.6.0.tar.gz PackageFileSize: 3.193 MiB