Package: epistack Version: 1.6.0 Command: /home/biocbuild/bbs-3.17-bioc/R/bin/R CMD INSTALL epistack StartedAt: 2023-10-15 15:11:38 -0400 (Sun, 15 Oct 2023) EndedAt: 2023-10-15 15:11:58 -0400 (Sun, 15 Oct 2023) EllapsedTime: 19.8 seconds RetCode: 0 Status: OK