Package: epistack Version: 1.6.0 Command: /home/biocbuild/bbs-3.17-bioc/R/bin/R CMD build --keep-empty-dirs --no-resave-data epistack StartedAt: 2023-10-15 16:43:14 -0400 (Sun, 15 Oct 2023) EndedAt: 2023-10-15 16:44:36 -0400 (Sun, 15 Oct 2023) EllapsedTime: 82.2 seconds RetCode: 0 Status: OK PackageFile: epistack_1.6.0.tar.gz PackageFileSize: 3.648 MiB