Package: epistack Version: 1.6.0 Command: /Library/Frameworks/R.framework/Resources/bin/R CMD check --install=check:epistack.install-out.txt --library=/Library/Frameworks/R.framework/Resources/library --no-vignettes --timings epistack_1.6.0.tar.gz StartedAt: 2023-10-16 01:24:50 -0400 (Mon, 16 Oct 2023) EndedAt: 2023-10-16 01:31:48 -0400 (Mon, 16 Oct 2023) EllapsedTime: 417.3 seconds RetCode: 0 Status: OK CheckDir: epistack.Rcheck Warnings: 0