Package: epimutacions Version: 1.4.0 Command: chmod a+r epimutacions -R && F:\biocbuild\bbs-3.17-bioc\R\bin\R.exe CMD build --keep-empty-dirs --no-resave-data epimutacions StartedAt: 2023-10-15 18:59:30 -0400 (Sun, 15 Oct 2023) EndedAt: 2023-10-15 19:05:28 -0400 (Sun, 15 Oct 2023) EllapsedTime: 358.1 seconds RetCode: 0 Status: OK PackageFile: epimutacions_1.4.0.tar.gz PackageFileSize: 1.489 MiB