Package: epimutacions Version: 1.4.0 Command: /home/biocbuild/bbs-3.17-bioc/R/bin/R CMD INSTALL epimutacions StartedAt: 2023-10-15 15:49:59 -0400 (Sun, 15 Oct 2023) EndedAt: 2023-10-15 15:50:46 -0400 (Sun, 15 Oct 2023) EllapsedTime: 47.1 seconds RetCode: 0 Status: OK