Package: epimutacions Version: 1.4.0 Command: /home/biocbuild/bbs-3.17-bioc/R/bin/R CMD check --install=check:epimutacions.install-out.txt --library=/home/biocbuild/bbs-3.17-bioc/R/site-library --timings epimutacions_1.4.0.tar.gz StartedAt: 2023-10-15 21:06:54 -0400 (Sun, 15 Oct 2023) EndedAt: 2023-10-15 21:17:05 -0400 (Sun, 15 Oct 2023) EllapsedTime: 610.7 seconds RetCode: 0 Status: OK CheckDir: epimutacions.Rcheck Warnings: 0