Package: epimutacions Version: 1.4.0 Command: /Library/Frameworks/R.framework/Resources/bin/R CMD INSTALL epimutacions StartedAt: 2023-10-15 16:32:28 -0400 (Sun, 15 Oct 2023) EndedAt: 2023-10-15 16:34:57 -0400 (Sun, 15 Oct 2023) EllapsedTime: 148.8 seconds RetCode: 0 Status: OK