Package: epimutacions Version: 1.4.0 Command: /Library/Frameworks/R.framework/Resources/bin/R CMD build --keep-empty-dirs --no-resave-data epimutacions StartedAt: 2023-10-15 18:11:13 -0400 (Sun, 15 Oct 2023) EndedAt: 2023-10-15 18:20:28 -0400 (Sun, 15 Oct 2023) EllapsedTime: 554.1 seconds RetCode: 0 Status: OK PackageFile: epimutacions_1.4.0.tar.gz PackageFileSize: 1.794 MiB