Package: epimutacions Version: 1.4.0 Command: rm -rf epimutacions.buildbin-libdir && mkdir epimutacions.buildbin-libdir && /Users/biocbuild/BBS/utils/build-universal.sh epimutacions_1.4.0.tar.gz /Library/Frameworks/R.framework/Resources/bin/R epimutacions.buildbin-libdir StartedAt: 2023-10-16 09:21:22 -0400 (Mon, 16 Oct 2023) EndedAt: 2023-10-16 09:24:24 -0400 (Mon, 16 Oct 2023) EllapsedTime: 182.1 seconds RetCode: 0 Status: OK PackageFile: epimutacions_1.4.0.tgz PackageFileSize: 1.84 MiB