Package: epigenomix Version: 1.40.0 Command: chmod a+r epigenomix -R && F:\biocbuild\bbs-3.17-bioc\R\bin\R.exe CMD build --keep-empty-dirs --no-resave-data epigenomix StartedAt: 2023-10-15 18:58:04 -0400 (Sun, 15 Oct 2023) EndedAt: 2023-10-15 18:59:29 -0400 (Sun, 15 Oct 2023) EllapsedTime: 85.0 seconds RetCode: 0 Status: OK PackageFile: epigenomix_1.40.0.tar.gz PackageFileSize: 427.9 KiB