Package: epigenomix Version: 1.40.0 Command: rm -rf epigenomix.buildbin-libdir && mkdir epigenomix.buildbin-libdir && F:\biocbuild\bbs-3.17-bioc\R\bin\R.exe CMD INSTALL --build --library=epigenomix.buildbin-libdir epigenomix_1.40.0.tar.gz StartedAt: 2023-10-16 08:45:31 -0400 (Mon, 16 Oct 2023) EndedAt: 2023-10-16 08:46:20 -0400 (Mon, 16 Oct 2023) EllapsedTime: 48.6 seconds RetCode: 0 Status: OK PackageFile: epigenomix_1.40.0.zip PackageFileSize: 969.1 KiB