Package: epigenomix Version: 1.40.0 Command: /Library/Frameworks/R.framework/Resources/bin/R CMD INSTALL epigenomix StartedAt: 2023-10-15 16:00:10 -0400 (Sun, 15 Oct 2023) EndedAt: 2023-10-15 16:02:17 -0400 (Sun, 15 Oct 2023) EllapsedTime: 126.7 seconds RetCode: 0 Status: OK