Package: epidecodeR Version: 1.8.0 Command: chmod a+r epidecodeR -R && F:\biocbuild\bbs-3.17-bioc\R\bin\R.exe CMD build --keep-empty-dirs --no-resave-data epidecodeR StartedAt: 2023-10-15 18:57:17 -0400 (Sun, 15 Oct 2023) EndedAt: 2023-10-15 18:59:49 -0400 (Sun, 15 Oct 2023) EllapsedTime: 151.3 seconds RetCode: 0 Status: OK PackageFile: epidecodeR_1.8.0.tar.gz PackageFileSize: 1.707 MiB