Package: epidecodeR Version: 1.8.0 Command: /home/biocbuild/bbs-3.17-bioc/R/bin/R CMD build --keep-empty-dirs --no-resave-data epidecodeR StartedAt: 2023-10-15 16:42:29 -0400 (Sun, 15 Oct 2023) EndedAt: 2023-10-15 16:43:19 -0400 (Sun, 15 Oct 2023) EllapsedTime: 49.5 seconds RetCode: 0 Status: OK PackageFile: epidecodeR_1.8.0.tar.gz PackageFileSize: 1.957 MiB