Package: epidecodeR Version: 1.8.0 Command: /Library/Frameworks/R.framework/Resources/bin/R CMD check --install=check:epidecodeR.install-out.txt --library=/Library/Frameworks/R.framework/Resources/library --no-vignettes --timings epidecodeR_1.8.0.tar.gz StartedAt: 2023-10-16 01:23:11 -0400 (Mon, 16 Oct 2023) EndedAt: 2023-10-16 01:32:30 -0400 (Mon, 16 Oct 2023) EllapsedTime: 558.2 seconds RetCode: 0 Status: OK CheckDir: epidecodeR.Rcheck Warnings: 0