Package: epiNEM Version: 1.24.0 Command: F:\biocbuild\bbs-3.17-bioc\R\bin\R.exe CMD check --no-multiarch --install=check:epiNEM.install-out.txt --library=F:\biocbuild\bbs-3.17-bioc\R\library --no-vignettes --timings epiNEM_1.24.0.tar.gz StartedAt: 2023-10-16 01:56:15 -0400 (Mon, 16 Oct 2023) EndedAt: 2023-10-16 01:58:49 -0400 (Mon, 16 Oct 2023) EllapsedTime: 154.2 seconds RetCode: 0 Status: OK CheckDir: epiNEM.Rcheck Warnings: 0