Package: epiNEM Version: 1.24.0 Command: rm -rf epiNEM.buildbin-libdir && mkdir epiNEM.buildbin-libdir && F:\biocbuild\bbs-3.17-bioc\R\bin\R.exe CMD INSTALL --build --library=epiNEM.buildbin-libdir epiNEM_1.24.0.tar.gz StartedAt: 2023-10-16 08:45:48 -0400 (Mon, 16 Oct 2023) EndedAt: 2023-10-16 08:46:17 -0400 (Mon, 16 Oct 2023) EllapsedTime: 29.0 seconds RetCode: 0 Status: OK PackageFile: epiNEM_1.24.0.zip PackageFileSize: 1.074 MiB