Package: epiNEM Version: 1.24.0 Command: /home/biocbuild/bbs-3.17-bioc/R/bin/R CMD check --install=check:epiNEM.install-out.txt --library=/home/biocbuild/bbs-3.17-bioc/R/site-library --timings epiNEM_1.24.0.tar.gz StartedAt: 2023-10-15 21:07:11 -0400 (Sun, 15 Oct 2023) EndedAt: 2023-10-15 21:10:26 -0400 (Sun, 15 Oct 2023) EllapsedTime: 195.1 seconds RetCode: 0 Status: OK CheckDir: epiNEM.Rcheck Warnings: 0