Package: epiNEM Version: 1.24.0 Command: /Library/Frameworks/R.framework/Resources/bin/R CMD check --install=check:epiNEM.install-out.txt --library=/Library/Frameworks/R.framework/Resources/library --no-vignettes --timings epiNEM_1.24.0.tar.gz StartedAt: 2023-10-16 01:24:15 -0400 (Mon, 16 Oct 2023) EndedAt: 2023-10-16 01:31:27 -0400 (Mon, 16 Oct 2023) EllapsedTime: 431.8 seconds RetCode: 0 Status: OK CheckDir: epiNEM.Rcheck Warnings: 0