Package: epiNEM Version: 1.24.0 Command: /Library/Frameworks/R.framework/Resources/bin/R CMD build --keep-empty-dirs --no-resave-data epiNEM StartedAt: 2023-10-15 18:11:19 -0400 (Sun, 15 Oct 2023) EndedAt: 2023-10-15 18:13:40 -0400 (Sun, 15 Oct 2023) EllapsedTime: 141.4 seconds RetCode: 0 Status: OK PackageFile: epiNEM_1.24.0.tar.gz PackageFileSize: 2.072 MiB