Package: ensembldb Version: 2.24.1 Command: chmod a+r ensembldb -R && F:\biocbuild\bbs-3.17-bioc\R\bin\R.exe CMD build --keep-empty-dirs --no-resave-data ensembldb StartedAt: 2023-10-15 18:56:58 -0400 (Sun, 15 Oct 2023) EndedAt: 2023-10-15 19:01:21 -0400 (Sun, 15 Oct 2023) EllapsedTime: 263.0 seconds RetCode: 0 Status: OK PackageFile: ensembldb_2.24.1.tar.gz PackageFileSize: 3.11 MiB