Package: ensembldb Version: 2.24.1 Command: rm -rf ensembldb.buildbin-libdir && mkdir ensembldb.buildbin-libdir && F:\biocbuild\bbs-3.17-bioc\R\bin\R.exe CMD INSTALL --build --library=ensembldb.buildbin-libdir ensembldb_2.24.1.tar.gz StartedAt: 2023-10-16 08:45:20 -0400 (Mon, 16 Oct 2023) EndedAt: 2023-10-16 08:46:24 -0400 (Mon, 16 Oct 2023) EllapsedTime: 63.6 seconds RetCode: 0 Status: OK PackageFile: ensembldb_2.24.1.zip PackageFileSize: 3.413 MiB