Package: ensembldb Version: 2.24.1 Command: /home/biocbuild/bbs-3.17-bioc/R/bin/R CMD check --install=check:ensembldb.install-out.txt --library=/home/biocbuild/bbs-3.17-bioc/R/site-library --timings ensembldb_2.24.1.tar.gz StartedAt: 2023-10-15 21:04:42 -0400 (Sun, 15 Oct 2023) EndedAt: 2023-10-15 21:14:50 -0400 (Sun, 15 Oct 2023) EllapsedTime: 607.4 seconds RetCode: 0 Status: OK CheckDir: ensembldb.Rcheck Warnings: 0