Package: ensembldb Version: 2.24.1 Command: /home/biocbuild/bbs-3.17-bioc/R/bin/R CMD build --keep-empty-dirs --no-resave-data ensembldb StartedAt: 2023-10-15 16:41:59 -0400 (Sun, 15 Oct 2023) EndedAt: 2023-10-15 16:43:49 -0400 (Sun, 15 Oct 2023) EllapsedTime: 110.4 seconds RetCode: 0 Status: OK PackageFile: ensembldb_2.24.1.tar.gz PackageFileSize: 3.202 MiB