Package: ensembldb Version: 2.24.1 Command: /Library/Frameworks/R.framework/Resources/bin/R CMD build --keep-empty-dirs --no-resave-data ensembldb StartedAt: 2023-10-15 18:09:11 -0400 (Sun, 15 Oct 2023) EndedAt: 2023-10-15 18:13:48 -0400 (Sun, 15 Oct 2023) EllapsedTime: 277.6 seconds RetCode: 0 Status: OK PackageFile: ensembldb_2.24.1.tar.gz PackageFileSize: 3.236 MiB