Package: ensembldb Version: 2.24.1 Command: rm -rf ensembldb.buildbin-libdir && mkdir ensembldb.buildbin-libdir && /Users/biocbuild/BBS/utils/build-universal.sh ensembldb_2.24.1.tar.gz /Library/Frameworks/R.framework/Resources/bin/R ensembldb.buildbin-libdir StartedAt: 2023-10-16 09:20:58 -0400 (Mon, 16 Oct 2023) EndedAt: 2023-10-16 09:23:10 -0400 (Mon, 16 Oct 2023) EllapsedTime: 132.3 seconds RetCode: 0 Status: OK PackageFile: ensembldb_2.24.1.tgz PackageFileSize: 3.524 MiB